BEGIN:VCALENDAR
VERSION:2.0
PRODID:-//Adham Somantrie/AyoLari.in//NONSGML v1.0//EN
CALSCALE:GREGORIAN
BEGIN:VEVENT
UID:cb8da6767461f2812ae4290eac7cbc42
DTSTAMP:20260421T005617Z
LOCATION:Virtual Run
DESCRIPTION:ayolari.in
URL;VALUE=URI:https://ayolari.in/lomba/virtual-run-ride-for-independence-day
SUMMARY:Virtual Run & Ride for Independence Day
DTSTART;VALUE=DATE;TZID=ASIA-JAKARTA:20210801
DTEND;VALUE=DATE;TZID=ASIA-JAKARTA:20210802
TRANSP:TRANSPARENT
END:VEVENT
END:VCALENDAR