BEGIN:VCALENDAR
VERSION:2.0
PRODID:-//Adham Somantrie/AyoLari.in//NONSGML v1.0//EN
CALSCALE:GREGORIAN
BEGIN:VEVENT
UID:24917db15c4e37e421866448c9ab23d8
DTSTAMP:20260421T052825Z
LOCATION:Virtual Run
DESCRIPTION:ayolari.in
URL;VALUE=URI:https://ayolari.in/lomba/cityrun-series
SUMMARY:Iconic Virtual Run - Cityrun Series
DTSTART;VALUE=DATE;TZID=ASIA-JAKARTA:20210504
DTEND;VALUE=DATE;TZID=ASIA-JAKARTA:20210505
TRANSP:TRANSPARENT
END:VEVENT
END:VCALENDAR