BEGIN:VCALENDAR
VERSION:2.0
PRODID:-//Adham Somantrie/AyoLari.in//NONSGML v1.0//EN
CALSCALE:GREGORIAN
BEGIN:VEVENT
UID:e21e4e58ad9ab56e8a4634046da90113
DTSTAMP:20260421T000222Z
LOCATION:Virtual Run
DESCRIPTION:ayolari.in
URL;VALUE=URI:https://ayolari.in/lomba/lemonaid-active-2021
SUMMARY:Lemonaid Active 2021
DTSTART;VALUE=DATE;TZID=ASIA-JAKARTA:20210422
DTEND;VALUE=DATE;TZID=ASIA-JAKARTA:20210423
TRANSP:TRANSPARENT
END:VEVENT
END:VCALENDAR