BEGIN:VCALENDAR
VERSION:2.0
PRODID:-//Adham Somantrie/AyoLari.in//NONSGML v1.0//EN
CALSCALE:GREGORIAN
BEGIN:VEVENT
UID:936a40b7e8eea0dc537e5f2edee1387a
DTSTAMP:20260421T005920Z
LOCATION:Virtual Run
DESCRIPTION:ayolari.in
URL;VALUE=URI:https://ayolari.in/lomba/fibonacci-virtual-run-ride
SUMMARY:Fibonacci Virtual Run & Ride
DTSTART;VALUE=DATE;TZID=ASIA-JAKARTA:20210704
DTEND;VALUE=DATE;TZID=ASIA-JAKARTA:20210705
TRANSP:TRANSPARENT
END:VEVENT
END:VCALENDAR