BEGIN:VCALENDAR
VERSION:2.0
PRODID:-//Adham Somantrie/AyoLari.in//NONSGML v1.0//EN
CALSCALE:GREGORIAN
BEGIN:VEVENT
UID:c182f930a06317057d31c73bb2fedd4f
DTSTAMP:20260421T020830Z
LOCATION:Virtual Run
DESCRIPTION:ayolari.in
URL;VALUE=URI:https://ayolari.in/lomba/steps-for-children-2021
SUMMARY:Steps for Children 2021
DTSTART;VALUE=DATE;TZID=ASIA-JAKARTA:20210426
DTEND;VALUE=DATE;TZID=ASIA-JAKARTA:20210427
TRANSP:TRANSPARENT
END:VEVENT
END:VCALENDAR