BEGIN:VCALENDAR
VERSION:2.0
PRODID:-//Adham Somantrie/AyoLari.in//NONSGML v1.0//EN
CALSCALE:GREGORIAN
BEGIN:VEVENT
UID:7dc1c7653ac42a05642a667959c12239
DTSTAMP:20260421T041607Z
LOCATION:Virtual Run
DESCRIPTION:ayolari.in
URL;VALUE=URI:https://ayolari.in/lomba/takbirrun-part-2
SUMMARY:TakbirRun Part 2
DTSTART;VALUE=DATE;TZID=ASIA-JAKARTA:20210411
DTEND;VALUE=DATE;TZID=ASIA-JAKARTA:20210412
TRANSP:TRANSPARENT
END:VEVENT
END:VCALENDAR