BEGIN:VCALENDAR
VERSION:2.0
PRODID:-//Adham Somantrie/AyoLari.in//NONSGML v1.0//EN
CALSCALE:GREGORIAN
BEGIN:VEVENT
UID:2a34abd6ebbd7fcf5a4421229c946c0a
DTSTAMP:20260421T022613Z
LOCATION:Virtual Run
DESCRIPTION:ayolari.in
URL;VALUE=URI:https://ayolari.in/lomba/tasmanian-tiger-virtual-run
SUMMARY:Tasmanian Tiger Virtual Run
DTSTART;VALUE=DATE;TZID=ASIA-JAKARTA:20210415
DTEND;VALUE=DATE;TZID=ASIA-JAKARTA:20210416
TRANSP:TRANSPARENT
END:VEVENT
END:VCALENDAR