BEGIN:VCALENDAR
VERSION:2.0
PRODID:-//Adham Somantrie/AyoLari.in//NONSGML v1.0//EN
CALSCALE:GREGORIAN
BEGIN:VEVENT
UID:23c97e9cb93576e45d2feaf00d0e8502
DTSTAMP:20260421T041252Z
LOCATION:Virtual Run
DESCRIPTION:ayolari.in
URL;VALUE=URI:https://ayolari.in/lomba/gerak-ramadhan-walk-a-thon
SUMMARY:GERAK Ramadhan Walk-a-Thon
DTSTART;VALUE=DATE;TZID=ASIA-JAKARTA:20210413
DTEND;VALUE=DATE;TZID=ASIA-JAKARTA:20210414
TRANSP:TRANSPARENT
END:VEVENT
END:VCALENDAR