BEGIN:VCALENDAR
VERSION:2.0
PRODID:-//Adham Somantrie/AyoLari.in//NONSGML v1.0//EN
CALSCALE:GREGORIAN
BEGIN:VEVENT
UID:37d097caf1299d9aa79c2c2b843d2d78
DTSTAMP:20260421T134532Z
LOCATION:Virtual Run
DESCRIPTION:ayolari.in
URL;VALUE=URI:https://ayolari.in/lomba/skadron-udara-5-virtual-run
SUMMARY:Skadron Udara 5 Virtual Run
DTSTART;VALUE=DATE;TZID=ASIA-JAKARTA:20210523
DTEND;VALUE=DATE;TZID=ASIA-JAKARTA:20210524
TRANSP:TRANSPARENT
END:VEVENT
END:VCALENDAR