BEGIN:VCALENDAR
VERSION:2.0
PRODID:-//Adham Somantrie/AyoLari.in//NONSGML v1.0//EN
CALSCALE:GREGORIAN
BEGIN:VEVENT
UID:1943102704f8f8f3302c2b730728e023
DTSTAMP:20260421T040408Z
LOCATION:Virtual Run
DESCRIPTION:ayolari.in
URL;VALUE=URI:https://ayolari.in/lomba/barbie-virtual-run-2021
SUMMARY:BARBIE VIRTUAL RUN 2021
DTSTART;VALUE=DATE;TZID=ASIA-JAKARTA:20210430
DTEND;VALUE=DATE;TZID=ASIA-JAKARTA:20210501
TRANSP:TRANSPARENT
END:VEVENT
END:VCALENDAR