BEGIN:VCALENDAR
VERSION:2.0
PRODID:-//Adham Somantrie/AyoLari.in//NONSGML v1.0//EN
CALSCALE:GREGORIAN
BEGIN:VEVENT
UID:9bb6dee73b8b0ca97466ccb24fff3139
DTSTAMP:20260421T005314Z
LOCATION:Virtual Run
DESCRIPTION:ayolari.in
URL;VALUE=URI:https://ayolari.in/lomba/milesformeals-virtual-run-ride-2021
SUMMARY:#MilesforMeals Virtual Run & Ride 2021
DTSTART;VALUE=DATE;TZID=ASIA-JAKARTA:20210412
DTEND;VALUE=DATE;TZID=ASIA-JAKARTA:20210413
TRANSP:TRANSPARENT
END:VEVENT
END:VCALENDAR