BEGIN:VCALENDAR
VERSION:2.0
PRODID:-//Adham Somantrie/AyoLari.in//NONSGML v1.0//EN
CALSCALE:GREGORIAN
BEGIN:VEVENT
UID:c902b497eb972281fb5b4e206db38ee6
DTSTAMP:20260421T005531Z
LOCATION:Virtual Run
DESCRIPTION:ayolari.in
URL;VALUE=URI:https://ayolari.in/lomba/mizone-fast-race
SUMMARY:Mizone Fast & Race
DTSTART;VALUE=DATE;TZID=ASIA-JAKARTA:20210507
DTEND;VALUE=DATE;TZID=ASIA-JAKARTA:20210508
TRANSP:TRANSPARENT
END:VEVENT
END:VCALENDAR