BEGIN:VCALENDAR
VERSION:2.0
PRODID:-//Adham Somantrie/AyoLari.in//NONSGML v1.0//EN
CALSCALE:GREGORIAN
BEGIN:VEVENT
UID:f6e794a75c5d51de081dbefa224304f9
DTSTAMP:20260421T090031Z
LOCATION:Virtual Run
DESCRIPTION:ayolari.in
URL;VALUE=URI:https://ayolari.in/lomba/resoulution-3
SUMMARY:Resoulution 3
DTSTART;VALUE=DATE;TZID=ASIA-JAKARTA:20210328
DTEND;VALUE=DATE;TZID=ASIA-JAKARTA:20210329
TRANSP:TRANSPARENT
END:VEVENT
END:VCALENDAR