BEGIN:VCALENDAR
VERSION:2.0
PRODID:-//Adham Somantrie/AyoLari.in//NONSGML v1.0//EN
CALSCALE:GREGORIAN
BEGIN:VEVENT
UID:bd5af7cd922fd2603be4ee3dc43b0b77
DTSTAMP:20260421T035328Z
LOCATION:Virtual Run
DESCRIPTION:ayolari.in
URL;VALUE=URI:https://ayolari.in/lomba/family-fund-run
SUMMARY:Family Fund Run
DTSTART;VALUE=DATE;TZID=ASIA-JAKARTA:20210318
DTEND;VALUE=DATE;TZID=ASIA-JAKARTA:20210319
TRANSP:TRANSPARENT
END:VEVENT
END:VCALENDAR