BEGIN:VCALENDAR
VERSION:2.0
PRODID:-//Adham Somantrie/AyoLari.in//NONSGML v1.0//EN
CALSCALE:GREGORIAN
BEGIN:VEVENT
UID:5227b6aaf294f5f027273aebf16015f2
DTSTAMP:20260421T000228Z
LOCATION:Virtual Run
DESCRIPTION:ayolari.in
URL;VALUE=URI:https://ayolari.in/lomba/extrajoss-new-laki-race-to-share-2021
SUMMARY:ExtraJoss New Laki Race To Share 2021
DTSTART;VALUE=DATE;TZID=ASIA-JAKARTA:20210321
DTEND;VALUE=DATE;TZID=ASIA-JAKARTA:20210322
TRANSP:TRANSPARENT
END:VEVENT
END:VCALENDAR