BEGIN:VCALENDAR
VERSION:2.0
PRODID:-//Adham Somantrie/AyoLari.in//NONSGML v1.0//EN
CALSCALE:GREGORIAN
BEGIN:VEVENT
UID:3b92d18aa7a6176dd37d372bc2f1eb71
DTSTAMP:20260421T000323Z
LOCATION:Virtual Run
DESCRIPTION:ayolari.in
URL;VALUE=URI:https://ayolari.in/lomba/pruride-indonesia-2021-fun-ride-run-run-walk
SUMMARY:PRURide Indonesia 2021 Virtual Ride
DTSTART;VALUE=DATE;TZID=ASIA-JAKARTA:20210801
DTEND;VALUE=DATE;TZID=ASIA-JAKARTA:20210802
TRANSP:TRANSPARENT
END:VEVENT
END:VCALENDAR