BEGIN:VCALENDAR
VERSION:2.0
PRODID:-//Adham Somantrie/AyoLari.in//NONSGML v1.0//EN
CALSCALE:GREGORIAN
BEGIN:VEVENT
UID:ef41d488755367316f04fc0e0e9dc9fc
DTSTAMP:20260421T111034Z
LOCATION:Virtual Run
DESCRIPTION:ayolari.in
URL;VALUE=URI:https://ayolari.in/lomba/walk-or-run-for-autism
SUMMARY:Walk (or Run) for Autism
DTSTART;VALUE=DATE;TZID=ASIA-JAKARTA:20210315
DTEND;VALUE=DATE;TZID=ASIA-JAKARTA:20210316
TRANSP:TRANSPARENT
END:VEVENT
END:VCALENDAR