BEGIN:VCALENDAR
VERSION:2.0
PRODID:-//Adham Somantrie/AyoLari.in//NONSGML v1.0//EN
CALSCALE:GREGORIAN
BEGIN:VEVENT
UID:5a1e3a5aede16d438c38862cac1a78db
DTSTAMP:20260421T005649Z
LOCATION:Virtual Run
DESCRIPTION:ayolari.in
URL;VALUE=URI:https://ayolari.in/lomba/spekta-run-ride
SUMMARY:Spekta Run & Ride
DTSTART;VALUE=DATE;TZID=ASIA-JAKARTA:20210306
DTEND;VALUE=DATE;TZID=ASIA-JAKARTA:20210307
TRANSP:TRANSPARENT
END:VEVENT
END:VCALENDAR