BEGIN:VCALENDAR
VERSION:2.0
PRODID:-//Adham Somantrie/AyoLari.in//NONSGML v1.0//EN
CALSCALE:GREGORIAN
BEGIN:VEVENT
UID:abdbeb4d8dbe30df8430a8394b7218ef
DTSTAMP:20260421T011716Z
LOCATION:Virtual Run
DESCRIPTION:ayolari.in
URL;VALUE=URI:https://ayolari.in/lomba/heroes-for-children
SUMMARY:Heroes For Children
DTSTART;VALUE=DATE;TZID=ASIA-JAKARTA:20210601
DTEND;VALUE=DATE;TZID=ASIA-JAKARTA:20210602
TRANSP:TRANSPARENT
END:VEVENT
END:VCALENDAR