BEGIN:VCALENDAR
VERSION:2.0
PRODID:-//Adham Somantrie/AyoLari.in//NONSGML v1.0//EN
CALSCALE:GREGORIAN
BEGIN:VEVENT
UID:1534b76d325a8f591b52d302e7181331
DTSTAMP:20260421T005532Z
LOCATION:Jakarta
DESCRIPTION:ayolari.in
URL;VALUE=URI:https://ayolari.in/lomba/garuda-aerorun
SUMMARY:Garuda Aerorun
DTSTART;VALUE=DATE;TZID=ASIA-JAKARTA:20150328
DTEND;VALUE=DATE;TZID=ASIA-JAKARTA:20150329
TRANSP:TRANSPARENT
END:VEVENT
END:VCALENDAR