BEGIN:VCALENDAR
VERSION:2.0
PRODID:-//Adham Somantrie/AyoLari.in//NONSGML v1.0//EN
CALSCALE:GREGORIAN
BEGIN:VEVENT
UID:1b5230e3ea6d7123847ad55a1e06fffd
DTSTAMP:20260421T020731Z
LOCATION:Virtual Run
DESCRIPTION:ayolari.in
URL;VALUE=URI:https://ayolari.in/lomba/pocari-sweat-run-indonesia-2021
SUMMARY:Pocari Sweat Run Indonesia 2021
DTSTART;VALUE=DATE;TZID=ASIA-JAKARTA:20211024
DTEND;VALUE=DATE;TZID=ASIA-JAKARTA:20211025
TRANSP:TRANSPARENT
END:VEVENT
END:VCALENDAR