BEGIN:VCALENDAR
VERSION:2.0
PRODID:-//Adham Somantrie/AyoLari.in//NONSGML v1.0//EN
CALSCALE:GREGORIAN
BEGIN:VEVENT
UID:92bbd31f8e0e43a7da8a6295b251725f
DTSTAMP:20260421T005450Z
LOCATION:Virtual Run
DESCRIPTION:ayolari.in
URL;VALUE=URI:https://ayolari.in/lomba/bintaro-jaya-binloop-ultra-120-virtual-challenge
SUMMARY:Bintaro Jaya Binloop Ultra 120 Virtual Challenge
DTSTART;VALUE=DATE;TZID=ASIA-JAKARTA:20210401
DTEND;VALUE=DATE;TZID=ASIA-JAKARTA:20210402
TRANSP:TRANSPARENT
END:VEVENT
END:VCALENDAR