BEGIN:VCALENDAR
VERSION:2.0
PRODID:-//Adham Somantrie/AyoLari.in//NONSGML v1.0//EN
CALSCALE:GREGORIAN
BEGIN:VEVENT
UID:3937230de3c8041e4da6ac3246a888e8
DTSTAMP:20260420T235608Z
LOCATION:Virtual Run
DESCRIPTION:ayolari.in
URL;VALUE=URI:https://ayolari.in/lomba/indonesia-women-run-2021-virtual-run
SUMMARY:Indonesia Women Run 2021 Virtual Run
DTSTART;VALUE=DATE;TZID=ASIA-JAKARTA:20210304
DTEND;VALUE=DATE;TZID=ASIA-JAKARTA:20210305
TRANSP:TRANSPARENT
END:VEVENT
END:VCALENDAR