BEGIN:VCALENDAR
VERSION:2.0
PRODID:-//Adham Somantrie/AyoLari.in//NONSGML v1.0//EN
CALSCALE:GREGORIAN
BEGIN:VEVENT
UID:bdc4626aa1d1df8e14d80d345b2a442d
DTSTAMP:20260421T005920Z
LOCATION:Virtual Run
DESCRIPTION:ayolari.in
URL;VALUE=URI:https://ayolari.in/lomba/racetorise
SUMMARY:#RacetoRISE
DTSTART;VALUE=DATE;TZID=ASIA-JAKARTA:20210313
DTEND;VALUE=DATE;TZID=ASIA-JAKARTA:20210314
TRANSP:TRANSPARENT
END:VEVENT
END:VCALENDAR