BEGIN:VCALENDAR
VERSION:2.0
PRODID:-//Adham Somantrie/AyoLari.in//NONSGML v1.0//EN
CALSCALE:GREGORIAN
BEGIN:VEVENT
UID:51174add1c52758f33d414ceaf3fe6ba
DTSTAMP:20260421T001452Z
LOCATION:Virtual Run
DESCRIPTION:ayolari.in
URL;VALUE=URI:https://ayolari.in/lomba/akpol-runners-1st-anniversary
SUMMARY:Akpol Runners 1st Anniversary
DTSTART;VALUE=DATE;TZID=ASIA-JAKARTA:20210226
DTEND;VALUE=DATE;TZID=ASIA-JAKARTA:20210227
TRANSP:TRANSPARENT
END:VEVENT
END:VCALENDAR