BEGIN:VCALENDAR
VERSION:2.0
PRODID:-//Adham Somantrie/AyoLari.in//NONSGML v1.0//EN
CALSCALE:GREGORIAN
BEGIN:VEVENT
UID:a29d1598024f9e87beab4b98411d48ce
DTSTAMP:20260421T021044Z
LOCATION:Virtual Run
DESCRIPTION:ayolari.in
URL;VALUE=URI:https://ayolari.in/lomba/ready-to-serve-you-series
SUMMARY:Ready To Serve You Series
DTSTART;VALUE=DATE;TZID=ASIA-JAKARTA:20210207
DTEND;VALUE=DATE;TZID=ASIA-JAKARTA:20210208
TRANSP:TRANSPARENT
END:VEVENT
END:VCALENDAR