BEGIN:VCALENDAR
VERSION:2.0
PRODID:-//Adham Somantrie/AyoLari.in//NONSGML v1.0//EN
CALSCALE:GREGORIAN
BEGIN:VEVENT
UID:c3535febaff29fcb7c0d20cbe94391c7
DTSTAMP:20260421T005900Z
LOCATION:Virtual Run
DESCRIPTION:ayolari.in
URL;VALUE=URI:https://ayolari.in/lomba/unseen-40
SUMMARY:UNSEEN 4.0
DTSTART;VALUE=DATE;TZID=ASIA-JAKARTA:20210228
DTEND;VALUE=DATE;TZID=ASIA-JAKARTA:20210301
TRANSP:TRANSPARENT
END:VEVENT
END:VCALENDAR