BEGIN:VCALENDAR
VERSION:2.0
PRODID:-//Adham Somantrie/AyoLari.in//NONSGML v1.0//EN
CALSCALE:GREGORIAN
BEGIN:VEVENT
UID:931af583573227f0220bc568c65ce104
DTSTAMP:20260421T000222Z
LOCATION:Virtual Run
DESCRIPTION:ayolari.in
URL;VALUE=URI:https://ayolari.in/lomba/race-to-moon-charity-virtual-race-398c
SUMMARY:Race to Moon - Charity Virtual Race
DTSTART;VALUE=DATE;TZID=ASIA-JAKARTA:20210118
DTEND;VALUE=DATE;TZID=ASIA-JAKARTA:20210119
TRANSP:TRANSPARENT
END:VEVENT
END:VCALENDAR