BEGIN:VCALENDAR
VERSION:2.0
PRODID:-//Adham Somantrie/AyoLari.in//NONSGML v1.0//EN
CALSCALE:GREGORIAN
BEGIN:VEVENT
UID:9185f3ec501c674c7c788464a36e7fb3
DTSTAMP:20260420T234546Z
LOCATION:Virtual Run
DESCRIPTION:ayolari.in
URL;VALUE=URI:https://ayolari.in/lomba/the-metalox-race
SUMMARY:The Metalox Race
DTSTART;VALUE=DATE;TZID=ASIA-JAKARTA:20210212
DTEND;VALUE=DATE;TZID=ASIA-JAKARTA:20210213
TRANSP:TRANSPARENT
END:VEVENT
END:VCALENDAR