BEGIN:VCALENDAR
VERSION:2.0
PRODID:-//Adham Somantrie/AyoLari.in//NONSGML v1.0//EN
CALSCALE:GREGORIAN
BEGIN:VEVENT
UID:6f3ef77ac0e3619e98159e9b6febf557
DTSTAMP:20260421T000222Z
LOCATION:Jakarta
DESCRIPTION:ayolari.in
URL;VALUE=URI:https://ayolari.in/lomba/men-s-health-indonesia-urbanathlon-2015-sundown
SUMMARY:Men`s Health Indonesia Urbanathlon 2015: Sundown
DTSTART;VALUE=DATE;TZID=ASIA-JAKARTA:20150815
DTEND;VALUE=DATE;TZID=ASIA-JAKARTA:20150816
TRANSP:TRANSPARENT
END:VEVENT
END:VCALENDAR