BEGIN:VCALENDAR
VERSION:2.0
PRODID:-//Adham Somantrie/AyoLari.in//NONSGML v1.0//EN
CALSCALE:GREGORIAN
BEGIN:VEVENT
UID:978d76676f5e7918f81d28e7d092ca0d
DTSTAMP:20260420T234521Z
LOCATION:Virtual Run
DESCRIPTION:ayolari.in
URL;VALUE=URI:https://ayolari.in/lomba/cita-sehat-virtual-run-4-care
SUMMARY:Cita Sehat Virtual Run 4 Care
DTSTART;VALUE=DATE;TZID=ASIA-JAKARTA:20210127
DTEND;VALUE=DATE;TZID=ASIA-JAKARTA:20210128
TRANSP:TRANSPARENT
END:VEVENT
END:VCALENDAR