BEGIN:VCALENDAR
VERSION:2.0
PRODID:-//Adham Somantrie/AyoLari.in//NONSGML v1.0//EN
CALSCALE:GREGORIAN
BEGIN:VEVENT
UID:a1d7311f2a312426d710e1c617fcbc8c
DTSTAMP:20260421T011538Z
LOCATION:Virtual Run
DESCRIPTION:ayolari.in
URL;VALUE=URI:https://ayolari.in/lomba/run-ride-sia-tour-de-humanity-2021
SUMMARY:Run Ride Sia - Tour De Humanity 2021
DTSTART;VALUE=DATE;TZID=ASIA-JAKARTA:20210130
DTEND;VALUE=DATE;TZID=ASIA-JAKARTA:20210131
TRANSP:TRANSPARENT
END:VEVENT
END:VCALENDAR