BEGIN:VCALENDAR
VERSION:2.0
PRODID:-//Adham Somantrie/AyoLari.in//NONSGML v1.0//EN
CALSCALE:GREGORIAN
BEGIN:VEVENT
UID:194cf6c2de8e00c05fcf16c498adc7bf
DTSTAMP:20260420T234837Z
LOCATION:Virtual Run
DESCRIPTION:ayolari.in
URL;VALUE=URI:https://ayolari.in/lomba/hello-earth-virtual-run
SUMMARY:Hello Earth Virtual Run
DTSTART;VALUE=DATE;TZID=ASIA-JAKARTA:20210101
DTEND;VALUE=DATE;TZID=ASIA-JAKARTA:20210102
TRANSP:TRANSPARENT
END:VEVENT
END:VCALENDAR