BEGIN:VCALENDAR
VERSION:2.0
PRODID:-//Adham Somantrie/AyoLari.in//NONSGML v1.0//EN
CALSCALE:GREGORIAN
BEGIN:VEVENT
UID:2cd4e8a2ce081c3d7c32c3cde4312ef7
DTSTAMP:20260421T021207Z
LOCATION:Virtual Run
DESCRIPTION:ayolari.in
URL;VALUE=URI:https://ayolari.in/lomba/evirtualsport
SUMMARY:Evirtualsport
DTSTART;VALUE=DATE;TZID=ASIA-JAKARTA:20210124
DTEND;VALUE=DATE;TZID=ASIA-JAKARTA:20210125
TRANSP:TRANSPARENT
END:VEVENT
END:VCALENDAR