BEGIN:VCALENDAR
VERSION:2.0
PRODID:-//Adham Somantrie/AyoLari.in//NONSGML v1.0//EN
CALSCALE:GREGORIAN
BEGIN:VEVENT
UID:cf2226ddd41b1a2d0ae51dab54d32c36
DTSTAMP:20260420T023756Z
LOCATION:Virtual Run
DESCRIPTION:ayolari.in
URL;VALUE=URI:https://ayolari.in/lomba/follow-your-dream-virtual-race
SUMMARY:Follow Your Dream Virtual Race
DTSTART;VALUE=DATE;TZID=ASIA-JAKARTA:20201220
DTEND;VALUE=DATE;TZID=ASIA-JAKARTA:20201221
TRANSP:TRANSPARENT
END:VEVENT
END:VCALENDAR