BEGIN:VCALENDAR
VERSION:2.0
PRODID:-//Adham Somantrie/AyoLari.in//NONSGML v1.0//EN
CALSCALE:GREGORIAN
BEGIN:VEVENT
UID:0b1ec366924b26fc98fa7b71a9c249cf
DTSTAMP:20260421T203637Z
LOCATION:Virtual Run
DESCRIPTION:ayolari.in
URL;VALUE=URI:https://ayolari.in/lomba/ojk-virtual-run-ride-2020
SUMMARY:OJK Virtual Run & Ride 2020
DTSTART;VALUE=DATE;TZID=ASIA-JAKARTA:20201122
DTEND;VALUE=DATE;TZID=ASIA-JAKARTA:20201123
TRANSP:TRANSPARENT
END:VEVENT
END:VCALENDAR