BEGIN:VCALENDAR
VERSION:2.0
PRODID:-//Adham Somantrie/AyoLari.in//NONSGML v1.0//EN
CALSCALE:GREGORIAN
BEGIN:VEVENT
UID:26f5bd4aa64fdadf96152ca6e6408068
DTSTAMP:20260420T022841Z
LOCATION:Virtual Run
DESCRIPTION:ayolari.in
URL;VALUE=URI:https://ayolari.in/lomba/harris-day-2020-virtual-challenge
SUMMARY:Harris Day 2020 Virtual Challenge
DTSTART;VALUE=DATE;TZID=ASIA-JAKARTA:20201120
DTEND;VALUE=DATE;TZID=ASIA-JAKARTA:20201121
TRANSP:TRANSPARENT
END:VEVENT
END:VCALENDAR