BEGIN:VCALENDAR
VERSION:2.0
PRODID:-//Adham Somantrie/AyoLari.in//NONSGML v1.0//EN
CALSCALE:GREGORIAN
BEGIN:VEVENT
UID:3e9e39fed3b8369ed940f52cf300cf88
DTSTAMP:20260421T222357Z
LOCATION:Virtual Run
DESCRIPTION:ayolari.in
URL;VALUE=URI:https://ayolari.in/lomba/indonesia-street-food-series
SUMMARY:Indonesia Street Food Series
DTSTART;VALUE=DATE;TZID=ASIA-JAKARTA:20201120
DTEND;VALUE=DATE;TZID=ASIA-JAKARTA:20201121
TRANSP:TRANSPARENT
END:VEVENT
END:VCALENDAR