BEGIN:VCALENDAR
VERSION:2.0
PRODID:-//Adham Somantrie/AyoLari.in//NONSGML v1.0//EN
CALSCALE:GREGORIAN
BEGIN:VEVENT
UID:0070d23b06b1486a538c0eaa45dd167a
DTSTAMP:20260420T115507Z
LOCATION:Indonesia
DESCRIPTION:ayolari.in
URL;VALUE=URI:https://ayolari.in/lomba/cause-2-years-anniversary-instagram-contest
SUMMARY:Cause 2 Years Anniversary Instagram Contest
DTSTART;VALUE=DATE;TZID=ASIA-JAKARTA:20201120
DTEND;VALUE=DATE;TZID=ASIA-JAKARTA:20201121
TRANSP:TRANSPARENT
END:VEVENT
END:VCALENDAR