BEGIN:VCALENDAR
VERSION:2.0
PRODID:-//Adham Somantrie/AyoLari.in//NONSGML v1.0//EN
CALSCALE:GREGORIAN
BEGIN:VEVENT
UID:654ad60ebd1ae29cedc37da04b6b0672
DTSTAMP:20260420T081842Z
LOCATION:Virtual Run
DESCRIPTION:ayolari.in
URL;VALUE=URI:https://ayolari.in/lomba/its-vr-run-series-my-personal-best-2020
SUMMARY:ITS VR Run Series  My Personal Best 2020
DTSTART;VALUE=DATE;TZID=ASIA-JAKARTA:20201206
DTEND;VALUE=DATE;TZID=ASIA-JAKARTA:20201207
TRANSP:TRANSPARENT
END:VEVENT
END:VCALENDAR