BEGIN:VCALENDAR
VERSION:2.0
PRODID:-//Adham Somantrie/AyoLari.in//NONSGML v1.0//EN
CALSCALE:GREGORIAN
BEGIN:VEVENT
UID:819e3d6c1381eac87c17617e5165f38c
DTSTAMP:20260420T034849Z
LOCATION:Virtual Run
DESCRIPTION:ayolari.in
URL;VALUE=URI:https://ayolari.in/lomba/mrp-full-marathon-42k-virtual-run
SUMMARY:MR.P Full Marathon 42K Virtual Run
DTSTART;VALUE=DATE;TZID=ASIA-JAKARTA:20201118
DTEND;VALUE=DATE;TZID=ASIA-JAKARTA:20201119
TRANSP:TRANSPARENT
END:VEVENT
END:VCALENDAR