BEGIN:VCALENDAR
VERSION:2.0
PRODID:-//Adham Somantrie/AyoLari.in//NONSGML v1.0//EN
CALSCALE:GREGORIAN
BEGIN:VEVENT
UID:6492d38d732122c58b44e3fdc3e9e9f3
DTSTAMP:20260420T035135Z
LOCATION:Virtual Run
DESCRIPTION:ayolari.in
URL;VALUE=URI:https://ayolari.in/lomba/feliz-navidad
SUMMARY:Feliz Navidad
DTSTART;VALUE=DATE;TZID=ASIA-JAKARTA:20201119
DTEND;VALUE=DATE;TZID=ASIA-JAKARTA:20201120
TRANSP:TRANSPARENT
END:VEVENT
END:VCALENDAR