BEGIN:VCALENDAR
VERSION:2.0
PRODID:-//Adham Somantrie/AyoLari.in//NONSGML v1.0//EN
CALSCALE:GREGORIAN
BEGIN:VEVENT
UID:cbef46321026d8404bc3216d4774c8a9
DTSTAMP:20260420T021842Z
LOCATION:Virtual Run
DESCRIPTION:ayolari.in
URL;VALUE=URI:https://ayolari.in/lomba/neo-vr
SUMMARY:Neo Virtual Run
DTSTART;VALUE=DATE;TZID=ASIA-JAKARTA:20201226
DTEND;VALUE=DATE;TZID=ASIA-JAKARTA:20201227
TRANSP:TRANSPARENT
END:VEVENT
END:VCALENDAR