BEGIN:VCALENDAR
VERSION:2.0
PRODID:-//Adham Somantrie/AyoLari.in//NONSGML v1.0//EN
CALSCALE:GREGORIAN
BEGIN:VEVENT
UID:1f4fe6a4411edc2ff625888b4093e917
DTSTAMP:20260420T234515Z
LOCATION:Virtual Run
DESCRIPTION:ayolari.in
URL;VALUE=URI:https://ayolari.in/lomba/festival-virtual-half-marathon-bali
SUMMARY:Festival Virtual Half Marathon Bali
DTSTART;VALUE=DATE;TZID=ASIA-JAKARTA:20210101
DTEND;VALUE=DATE;TZID=ASIA-JAKARTA:20210102
TRANSP:TRANSPARENT
END:VEVENT
END:VCALENDAR