BEGIN:VCALENDAR
VERSION:2.0
PRODID:-//Adham Somantrie/AyoLari.in//NONSGML v1.0//EN
CALSCALE:GREGORIAN
BEGIN:VEVENT
UID:fb2e203234df6dee15934e448ee88971
DTSTAMP:20260421T204326Z
LOCATION:Virtual Run
DESCRIPTION:ayolari.in
URL;VALUE=URI:https://ayolari.in/lomba/virtual-charity-run-or-ride-for-youth
SUMMARY:Virtual Charity Run or Ride for Youth
DTSTART;VALUE=DATE;TZID=ASIA-JAKARTA:20201207
DTEND;VALUE=DATE;TZID=ASIA-JAKARTA:20201208
TRANSP:TRANSPARENT
END:VEVENT
END:VCALENDAR