BEGIN:VCALENDAR
VERSION:2.0
PRODID:-//Adham Somantrie/AyoLari.in//NONSGML v1.0//EN
CALSCALE:GREGORIAN
BEGIN:VEVENT
UID:296472c9542ad4d4788d543508116cbc
DTSTAMP:20260420T021746Z
LOCATION:Virtual Run
DESCRIPTION:ayolari.in
URL;VALUE=URI:https://ayolari.in/lomba/milesformeals
SUMMARY:PelariBaik Virtual Series #MilesforMeals
DTSTART;VALUE=DATE;TZID=ASIA-JAKARTA:20201212
DTEND;VALUE=DATE;TZID=ASIA-JAKARTA:20201213
TRANSP:TRANSPARENT
END:VEVENT
END:VCALENDAR