BEGIN:VCALENDAR
VERSION:2.0
PRODID:-//Adham Somantrie/AyoLari.in//NONSGML v1.0//EN
CALSCALE:GREGORIAN
BEGIN:VEVENT
UID:f8bf09f5fceaea80e1f864a1b48938bf
DTSTAMP:20260420T034849Z
LOCATION:Bogor
DESCRIPTION:ayolari.in
URL;VALUE=URI:https://ayolari.in/lomba/sentul-highlands-gottong
SUMMARY:Sentul Highlands Gottong Fun Race
DTSTART;VALUE=DATE;TZID=ASIA-JAKARTA:20201115
DTEND;VALUE=DATE;TZID=ASIA-JAKARTA:20201116
TRANSP:TRANSPARENT
END:VEVENT
END:VCALENDAR