BEGIN:VCALENDAR
VERSION:2.0
PRODID:-//Adham Somantrie/AyoLari.in//NONSGML v1.0//EN
CALSCALE:GREGORIAN
BEGIN:VEVENT
UID:f8c0c968632845cd133308b1a494967f
DTSTAMP:20260420T035012Z
LOCATION:Virtual Run
DESCRIPTION:ayolari.in
URL;VALUE=URI:https://ayolari.in/lomba/hallow-n-virtual-run
SUMMARY:HALLOW-N Virtual Run
DTSTART;VALUE=DATE;TZID=ASIA-JAKARTA:20201021
DTEND;VALUE=DATE;TZID=ASIA-JAKARTA:20201022
TRANSP:TRANSPARENT
END:VEVENT
END:VCALENDAR