BEGIN:VCALENDAR
VERSION:2.0
PRODID:-//Adham Somantrie/AyoLari.in//NONSGML v1.0//EN
CALSCALE:GREGORIAN
BEGIN:VEVENT
UID:2eace51d8f796d04991c831a07059758
DTSTAMP:20260421T230341Z
LOCATION:Virtual Run
DESCRIPTION:ayolari.in
URL;VALUE=URI:https://ayolari.in/lomba/7-wonders-series
SUMMARY:7 Wonders Series
DTSTART;VALUE=DATE;TZID=ASIA-JAKARTA:20201008
DTEND;VALUE=DATE;TZID=ASIA-JAKARTA:20201009
TRANSP:TRANSPARENT
END:VEVENT
END:VCALENDAR