BEGIN:VCALENDAR
VERSION:2.0
PRODID:-//Adham Somantrie/AyoLari.in//NONSGML v1.0//EN
CALSCALE:GREGORIAN
BEGIN:VEVENT
UID:df4fe8a8bcd5c95cdb640aa9793bb32b
DTSTAMP:20260420T022341Z
LOCATION:Virtual Run
DESCRIPTION:ayolari.in
URL;VALUE=URI:https://ayolari.in/lomba/ceria-virtual-run
SUMMARY:Ceria Virtual Run
DTSTART;VALUE=DATE;TZID=ASIA-JAKARTA:20201101
DTEND;VALUE=DATE;TZID=ASIA-JAKARTA:20201102
TRANSP:TRANSPARENT
END:VEVENT
END:VCALENDAR